BEGIN:VCALENDAR
PRODID:-//eluceo/ical//2.0/EN
VERSION:2.0
CALSCALE:GREGORIAN
BEGIN:VEVENT
UID:hey.bayern.393144.6552023
DTSTAMP:20260419T140453Z
SUMMARY:Geführte Kräuterwanderung Tschengla
DTSTART;TZID=Europe/Berlin:20260814T103000
DTEND;TZID=Europe/Berlin:20260815T103000
LOCATION:Mühledörfle 71\, 6708 Brand\, Österreich
GEO:47.149073;9.756482
X-APPLE-STRUCTURED-LOCATION;VALUE=URI;X-ADDRESS=Mühledörfle 71\, 6708 Bra
 nd\, Österreich;X-APPLE-RADIUS=49;X-TITLE=:geo:47.149073,9.756482
URL;VALUE=URI:https://hey.bayern/events/393144
END:VEVENT
END:VCALENDAR
