BEGIN:VCALENDAR
PRODID:-//eluceo/ical//2.0/EN
VERSION:2.0
CALSCALE:GREGORIAN
BEGIN:VEVENT
UID:hey.bayern.387642.923242
DTSTAMP:20260423T153450Z
SUMMARY:Aktionstag der Polizei - SEK-Vorführung
DESCRIPTION:Aktionsfläche Gärten am Burgberg Süd
DTSTART;TZID=Europe/Berlin:20230716T131500
DTEND;TZID=Europe/Berlin:20230716T140000
LOCATION:94078 Freyung\, Deutschland
GEO:48.793184;13.541158
X-APPLE-STRUCTURED-LOCATION;VALUE=URI;X-ADDRESS=94078 Freyung\, Deutschland
 ;X-APPLE-RADIUS=49;X-TITLE=:geo:48.793184,13.541158
URL;VALUE=URI:https://hey.bayern/events/387642
END:VEVENT
END:VCALENDAR
