BEGIN:VCALENDAR
PRODID:-//eluceo/ical//2.0/EN
VERSION:2.0
CALSCALE:GREGORIAN
BEGIN:VEVENT
UID:hey.bayern.387308.921878
DTSTAMP:20260423T080342Z
SUMMARY:Begegnung im Himalaya: Nepal - LBV Neukirchen
DESCRIPTION:Keglerheim
DTSTART;TZID=Europe/Berlin:20230903T190000
DTEND;TZID=Europe/Berlin:20230903T210000
LOCATION:Schönlinder Str. 7\, 92259 Neukirchen\, Deutschland
GEO:49.527672;11.633651
X-APPLE-STRUCTURED-LOCATION;VALUE=URI;X-ADDRESS=Schönlinder Str. 7\, 92259
  Neukirchen\, Deutschland;X-APPLE-RADIUS=49;X-TITLE=:geo:49.527672,11.6336
 51
URL;VALUE=URI:https://hey.bayern/events/387308
END:VEVENT
END:VCALENDAR
