BEGIN:VCALENDAR
PRODID:-//eluceo/ical//2.0/EN
VERSION:2.0
CALSCALE:GREGORIAN
BEGIN:VEVENT
UID:hey.bayern.382996.834338
DTSTAMP:20260423T154150Z
SUMMARY:Sommerfest: Gartenbauverein Seeon 120 Jahre
DESCRIPTION:Sportplatz Seeon
DTSTART;TZID=Europe/Berlin:20230708T150000
DTEND;TZID=Europe/Berlin:20230709T000000
LOCATION:Am Sportplatz 4\, 83370 Seeon\, Deutschland
GEO:47.974800;12.467700
X-APPLE-STRUCTURED-LOCATION;VALUE=URI;X-ADDRESS=Am Sportplatz 4\, 83370 See
 on\, Deutschland;X-APPLE-RADIUS=49;X-TITLE=:geo:47.974800,12.467700
URL;VALUE=URI:https://hey.bayern/events/382996
END:VEVENT
END:VCALENDAR
