BEGIN:VCALENDAR
PRODID:-//eluceo/ical//2.0/EN
VERSION:2.0
CALSCALE:GREGORIAN
BEGIN:VEVENT
UID:hey.bayern.381899.6184109
DTSTAMP:20260424T063946Z
SUMMARY:Willfit - Körperloting Ganzkörpertraining
DTSTART;TZID=Europe/Berlin:20261118T173000
DTEND;TZID=Europe/Berlin:20261118T183000
LOCATION:Sternweg 2\, 9122 St. Kanzian am Klopeiner See\, Österreich
GEO:46.612382;14.574935
X-APPLE-STRUCTURED-LOCATION;VALUE=URI;X-ADDRESS=Sternweg 2\, 9122 St. Kanzi
 an am Klopeiner See\, Österreich;X-APPLE-RADIUS=49;X-TITLE=:geo:46.612382
 ,14.574935
URL;VALUE=URI:https://hey.bayern/events/381899
END:VEVENT
END:VCALENDAR
