BEGIN:VCALENDAR
PRODID:-//eluceo/ical//2.0/EN
VERSION:2.0
CALSCALE:GREGORIAN
BEGIN:VEVENT
UID:hey.bayern.370096.601492
DTSTAMP:20260423T153334Z
SUMMARY:Kissinger Sommer
DESCRIPTION:Innenstadt Bad Kissingen
DTSTART;TZID=Europe/Berlin:20230623T000000
DTEND;TZID=Europe/Berlin:20230624T000000
LOCATION:Rathausplatz 1\, 97688 Bad Kissingen\, Deutschland
GEO:50.200941;10.076040
X-APPLE-STRUCTURED-LOCATION;VALUE=URI;X-ADDRESS=Rathausplatz 1\, 97688 Bad 
 Kissingen\, Deutschland;X-APPLE-RADIUS=49;X-TITLE=:geo:50.200941,10.076040
URL;VALUE=URI:https://hey.bayern/events/370096
END:VEVENT
END:VCALENDAR
