BEGIN:VCALENDAR
PRODID:-//eluceo/ical//2.0/EN
VERSION:2.0
CALSCALE:GREGORIAN
BEGIN:VEVENT
UID:hey.bayern.369325.6557097
DTSTAMP:20260423T201414Z
SUMMARY:Yoga am See
DTSTART;TZID=Europe/Berlin:20260813T080000
DTEND;TZID=Europe/Berlin:20260813T090000
LOCATION:Seestraße 68\, 9872 Millstatt am See\, Österreich
GEO:46.802397;13.571793
X-APPLE-STRUCTURED-LOCATION;VALUE=URI;X-ADDRESS=Seestraße 68\, 9872 Millst
 att am See\, Österreich;X-APPLE-RADIUS=49;X-TITLE=:geo:46.802397,13.57179
 3
URL;VALUE=URI:https://hey.bayern/events/369325
END:VEVENT
END:VCALENDAR
