BEGIN:VCALENDAR
PRODID:-//eluceo/ical//2.0/EN
VERSION:2.0
CALSCALE:GREGORIAN
BEGIN:VEVENT
UID:hey.bayern.355080.438162
DTSTAMP:20260423T154152Z
SUMMARY:Trommelzirkus
DESCRIPTION:Kulturmodell Bräugasse
DTSTART;TZID=Europe/Berlin:20230518T183000
DTEND;TZID=Europe/Berlin:20230518T193000
LOCATION:Bräugasse 9\, 94032 Passau\, Deutschland
GEO:48.574635;13.471751
X-APPLE-STRUCTURED-LOCATION;VALUE=URI;X-ADDRESS=Bräugasse 9\, 94032 Passau
 \, Deutschland;X-APPLE-RADIUS=49;X-TITLE=:geo:48.574635,13.471751
URL;VALUE=URI:https://hey.bayern/events/355080
END:VEVENT
END:VCALENDAR
