BEGIN:VCALENDAR
PRODID:-//eluceo/ical//2.0/EN
VERSION:2.0
CALSCALE:GREGORIAN
BEGIN:VEVENT
UID:hey.bayern.353571.6556136
DTSTAMP:20260423T220447Z
SUMMARY:1. Maifeier der ER ASKÖ Gmünd
DTSTART;TZID=Europe/Berlin:20260501T100000
DTEND;TZID=Europe/Berlin:20260501T160000
URL;VALUE=URI:https://hey.bayern/events/353571
END:VEVENT
END:VCALENDAR
