BEGIN:VCALENDAR
PRODID:-//eluceo/ical//2.0/EN
VERSION:2.0
CALSCALE:GREGORIAN
BEGIN:VEVENT
UID:hey.bayern.347419.6378526
DTSTAMP:20260422T031135Z
SUMMARY:Sommer-Flohmarkt
DTSTART;TZID=Europe/Berlin:20260503T080000
DTEND;TZID=Europe/Berlin:20260503T235959
LOCATION:Hof bei Straden 2\, 8345 Hof bei Straden\, Österreich
GEO:46.762310;15.889538
X-APPLE-STRUCTURED-LOCATION;VALUE=URI;X-ADDRESS=Hof bei Straden 2\, 8345 Ho
 f bei Straden\, Österreich;X-APPLE-RADIUS=49;X-TITLE=:geo:46.762310,15.88
 9538
URL;VALUE=URI:https://hey.bayern/events/347419
END:VEVENT
END:VCALENDAR
