BEGIN:VCALENDAR
PRODID:-//eluceo/ical//2.0/EN
VERSION:2.0
CALSCALE:GREGORIAN
BEGIN:VEVENT
UID:hey.bayern.342049.6556168
DTSTAMP:20260423T091116Z
SUMMARY:Campusführung in der Johannes Kepler Universität Linz
DTSTART;TZID=Europe/Berlin:20260528T160000
DTEND;TZID=Europe/Berlin:20260528T235900
LOCATION:Altenberger Straße 69\, 4040 Linz\, Österreich
GEO:48.337260;14.322880
X-APPLE-STRUCTURED-LOCATION;VALUE=URI;X-ADDRESS=Altenberger Straße 69\, 40
 40 Linz\, Österreich;X-APPLE-RADIUS=49;X-TITLE=:geo:48.337260,14.322880
URL;VALUE=URI:https://hey.bayern/events/342049
END:VEVENT
END:VCALENDAR
