BEGIN:VCALENDAR
PRODID:-//eluceo/ical//2.0/EN
VERSION:2.0
CALSCALE:GREGORIAN
BEGIN:VEVENT
UID:hey.bayern.341663.6404581
DTSTAMP:20260419T190010Z
SUMMARY:Wochenmärkte
DTSTART;TZID=Europe/Berlin:20261126T060000
DTEND;TZID=Europe/Berlin:20261126T110000
LOCATION:Silberzeile\, 4780 Schärding\, Österreich
GEO:48.457716;13.431765
X-APPLE-STRUCTURED-LOCATION;VALUE=URI;X-ADDRESS=Silberzeile\, 4780 Schärdi
 ng\, Österreich;X-APPLE-RADIUS=49;X-TITLE=:geo:48.457716,13.431765
URL;VALUE=URI:https://hey.bayern/events/341663
END:VEVENT
END:VCALENDAR
