BEGIN:VCALENDAR
PRODID:-//eluceo/ical//2.0/EN
VERSION:2.0
CALSCALE:GREGORIAN
BEGIN:VEVENT
UID:hey.bayern.340083.6556334
DTSTAMP:20260426T024014Z
SUMMARY:Sommerfest des Heimatvereins
DTSTART;TZID=Europe/Berlin:20260905T180000
DTEND;TZID=Europe/Berlin:20260906T020000
LOCATION:Ellmaustraße 63\, 5330 Fuschl am See\, Österreich
GEO:47.792761;13.300217
X-APPLE-STRUCTURED-LOCATION;VALUE=URI;X-ADDRESS=Ellmaustraße 63\, 5330 Fus
 chl am See\, Österreich;X-APPLE-RADIUS=49;X-TITLE=:geo:47.792761,13.30021
 7
URL;VALUE=URI:https://hey.bayern/events/340083
END:VEVENT
END:VCALENDAR
