BEGIN:VCALENDAR
PRODID:-//eluceo/ical//2.0/EN
VERSION:2.0
CALSCALE:GREGORIAN
BEGIN:VEVENT
UID:hey.bayern.334972.6556462
DTSTAMP:20260424T032733Z
SUMMARY:Gottesdienst in der Pfarrkirche Filzmoos
DTSTART;TZID=Europe/Berlin:20260726T081500
DTEND;TZID=Europe/Berlin:20260726T090000
LOCATION:Kirchbichl 5\, 5532 Filzmoos\, Österreich
URL;VALUE=URI:https://hey.bayern/events/334972
END:VEVENT
END:VCALENDAR
