BEGIN:VCALENDAR
PRODID:-//eluceo/ical//2.0/EN
VERSION:2.0
CALSCALE:GREGORIAN
BEGIN:VEVENT
UID:hey.bayern.334904.6556436
DTSTAMP:20260423T013608Z
SUMMARY:Glutenfreie Brote\, Gebäck & Süßes
DTSTART;TZID=Europe/Berlin:20260708T090000
DTEND;TZID=Europe/Berlin:20260708T160000
LOCATION:Kohlstatt 6e\, 4866 Unterach am Attersee\, Österreich
GEO:47.808309;13.486887
X-APPLE-STRUCTURED-LOCATION;VALUE=URI;X-ADDRESS=Kohlstatt 6e\, 4866 Unterac
 h am Attersee\, Österreich;X-APPLE-RADIUS=49;X-TITLE=:geo:47.808309,13.48
 6887
URL;VALUE=URI:https://hey.bayern/events/334904
END:VEVENT
END:VCALENDAR
