BEGIN:VCALENDAR
PRODID:-//eluceo/ical//2.0/EN
VERSION:2.0
CALSCALE:GREGORIAN
BEGIN:VEVENT
UID:hey.bayern.329713.295499
DTSTAMP:20260420T143124Z
SUMMARY:Maibaum aufstellen
DESCRIPTION:Dorfplatz Mariakirchen
DTSTART;TZID=Europe/Berlin:20230501T130000
DTEND;TZID=Europe/Berlin:20230501T170000
LOCATION:94424 Arnstorf\, Deutschland
GEO:48.558041;12.817827
X-APPLE-STRUCTURED-LOCATION;VALUE=URI;X-ADDRESS=94424 Arnstorf\, Deutschlan
 d;X-APPLE-RADIUS=49;X-TITLE=:geo:48.558041,12.817827
URL;VALUE=URI:https://hey.bayern/events/329713
END:VEVENT
END:VCALENDAR
