BEGIN:VCALENDAR
PRODID:-//eluceo/ical//2.0/EN
VERSION:2.0
CALSCALE:GREGORIAN
BEGIN:VEVENT
UID:hey.bayern.299532.246154
DTSTAMP:20260424T170421Z
SUMMARY:Theater des Burschenvereins
DESCRIPTION:Hartseehalle
DTSTART;TZID=Europe/Berlin:20221228T200000
DTEND;TZID=Europe/Berlin:20221229T000000
LOCATION:Obinger Str.5b\, 83125 Eggstätt\, Deutschland
GEO:47.927419;12.377991
X-APPLE-STRUCTURED-LOCATION;VALUE=URI;X-ADDRESS=Obinger Str.5b\, 83125 Eggs
 tätt\, Deutschland;X-APPLE-RADIUS=49;X-TITLE=:geo:47.927419,12.377991
URL;VALUE=URI:https://hey.bayern/events/299532
END:VEVENT
END:VCALENDAR
