BEGIN:VCALENDAR
PRODID:-//eluceo/ical//2.0/EN
VERSION:2.0
CALSCALE:GREGORIAN
BEGIN:VEVENT
UID:hey.bayern.268024.205400
DTSTAMP:20260422T170651Z
SUMMARY:"Gschekad" im Chiemseebad Seebruck
DESCRIPTION:Strandbad Seebruck
DTSTART;TZID=Europe/Berlin:20220708T200000
DTEND;TZID=Europe/Berlin:20220709T000000
LOCATION:Am Chiemseepark 9\, 83358 Seebruck\, Deutschland
GEO:47.931400;12.478600
X-APPLE-STRUCTURED-LOCATION;VALUE=URI;X-ADDRESS=Am Chiemseepark 9\, 83358 S
 eebruck\, Deutschland;X-APPLE-RADIUS=49;X-TITLE=:geo:47.931400,12.478600
URL;VALUE=URI:https://hey.bayern/events/268024
END:VEVENT
END:VCALENDAR
