BEGIN:VCALENDAR
PRODID:-//eluceo/ical//2.0/EN
VERSION:2.0
CALSCALE:GREGORIAN
BEGIN:VEVENT
UID:hey.bayern.185651.178734
DTSTAMP:20260421T162424Z
SUMMARY:Spitzlmarkt
DESCRIPTION:Auf und um den Riedenburger Marktplatz
DTSTART;TZID=Europe/Berlin:20221023T080000
DTEND;TZID=Europe/Berlin:20221023T180000
LOCATION:Marktplatz\, 93339 Riedenburg\, Deutschland
GEO:48.962099;11.683422
X-APPLE-STRUCTURED-LOCATION;VALUE=URI;X-ADDRESS=Marktplatz\, 93339 Riedenbu
 rg\, Deutschland;X-APPLE-RADIUS=49;X-TITLE=:geo:48.962099,11.683422
URL;VALUE=URI:https://hey.bayern/events/185651
END:VEVENT
END:VCALENDAR
