BEGIN:VCALENDAR
PRODID:-//eluceo/ical//2.0/EN
VERSION:2.0
CALSCALE:GREGORIAN
BEGIN:VEVENT
UID:hey.bayern.144965.10812
DTSTAMP:20260422T171244Z
SUMMARY:Die Fülle des Sommers
DESCRIPTION:Gärtnerisches Informationszentrum
DTSTART;TZID=Europe/Berlin:20210724T090000
DTEND;TZID=Europe/Berlin:20210724T180000
LOCATION:85057 Ingolstadt\, Deutschland
URL;VALUE=URI:https://hey.bayern/events/144965
END:VEVENT
END:VCALENDAR
